BEGIN:VCALENDAR
VERSION:2.0
PRODID:-//Paidiatros.gr - ECPv4.9.12//NONSGML v1.0//EN
CALSCALE:GREGORIAN
METHOD:PUBLISH
X-WR-CALNAME:Paidiatros.gr
X-ORIGINAL-URL:https://www.paidiatros.gr
X-WR-CALDESC:Events for Paidiatros.gr
BEGIN:VTIMEZONE
TZID:UTC
BEGIN:STANDARD
TZOFFSETFROM:+0000
TZOFFSETTO:+0000
TZNAME:UTC
DTSTART:20190101T000000
END:STANDARD
END:VTIMEZONE
BEGIN:VEVENT
DTSTART;VALUE=DATE:20190503
DTEND;VALUE=DATE:20190513
DTSTAMP:20260424T172123
CREATED:20190613T131831Z
LAST-MODIFIED:20190613T131831Z
UID:10407-1556841600-1557705599@www.paidiatros.gr
SUMMARY:57ο ΠΑΝΕΛΛΗΝΙΟ ΠΑΙΔΙΑΤΡΙΚΟ ΣΥΝΕΔΡΙΟ
DESCRIPTION:ΕΠΙΣΤΗΜΟΝΙΚΟ ΠΡΟΓΡΑΜΜΑ\nΤο επιστημονικό πρόγραμμα του 57ου Πανελλήνιου Παιδιατρικού Συνεδρίου θα περιλαμβάνει στρογγυλά τραπέζια\, επίκαιρα θέματα για τον Παιδίατρο\, παρουσίαση ενδιαφερόντων περιστατικών και συνεδρίες “Ρωτήστε τον Ειδικό”. \nΕνδεικτικά αναφέρονται κάποια από τα θέματα που θα συζητηθούν στο πλαίσιο του 57ου Πανελλήνιου Παιδιατρικού Συνεδρίου: \nTriage – Early warning system. Προοπτικές εφαρμογής στον κλινικό χώρο\nΝοσηλευτική εκτίμηση και παρακολούθηση του παιδιού πολυτραυματία στο νοσοκομείο\nΟ ρόλος των χυμών στη δίαιτα των παιδιών\nΔιατροφή της εγκύου και επιπτώσεις στην υγεία του παιδιού\nΚλιματολογικές αλλαγές και εμφάνιση νέων λοιμώξεων\nΣκωληκοειδίτιδα στον 21ο αιώνα\nΥποθυρεοειδισμός: Έχει πράγματι αυξηθεί η συχνότητά του;\nΔιαταραχές της εμμήνου ρύσεως στην έφηβη\nΧρόνιος βήχας. Αλλεργικός\, πνευμονολογικός ή γαστρεντερικός;\nΘορυβώδης αναπνοή. Πότε να ανησυχούμε;\nΟξεία βρογχιολίτιδα. Αντιμετώπιση στο σπίτι\, το Ιατρείο και το Νοσοκομείο\nΗ παιδιατρική φροντίδα του πρόωρου νεογνού\nΜητρικός θηλασμός και μικροβίωμα\nΠροβλήματα και χειρισμοί δηγμάτων ζώων και εντόμων\nΠαρακολούθηση και αντιμετώπιση Νεογνικής Υπερχολερυθριναιμίας\nΗ εισαγωγή στερεών τροφών νωρίς\, προλαμβάνει την τροφική αλλεργία;\nΑλλεργικές αντιδράσεις σε δήγματα εντόμων\nΤα πολλά πρόσωπα της χρόνιας ρινίτιδας στα παιδιά\nΟξεία χαλαρή παράλυση\nΣκλήρυνση κατά πλάκας στα παιδιά\nΤο παιδί που περπατάει στις μύτες: Ιδιοπαθής δακτυλοβάμων\nΔιαγνωστική προσέγγιση Ηωσινοφιλίας\, Λευκοπενίας και Θρομβοπενίας\nΤο επιστημονικό πρόγραμμα του Συνεδρίου θα είναι διαθέσιμο σύντομα. \nΕγγραφές\nΟι εγγραφές για το 57ο Πανελλήνιο Παιδιατρικό Συνέδριο ξεκίνησαν! \nΕκμεταλλευτείτε τα ειδικά προνόμια και μειωμένα κόστη προεγγραφής\, τα οποία ισχύουν μέχρι και τις 3 Μαΐου 2019 και πραγματοποιήστε την εγγραφή σας μέσω της επίσημης ιστοσελίδας του 57ου Πανελλήνιου Παιδιατρικού Συνεδρίου. \nΓια περισσότερες πληροφορίες\, παρακαλώ πατήστε εδώ. \n
URL:https://www.paidiatros.gr/event/57o-panellinio-paidiatriko-synedrio/
LOCATION:Συνεδριακό και Πολιτιστικό Κέντρο Πανεπιστημίου Πατρών\, Πανεπιστημιούπολη\, Πάτρα\, 26504
ATTACH;FMTTYPE=image/jpeg:https://www.paidiatros.gr/wp-content/uploads/2019/06/57th-ped-congress-front-page-10.jpg
END:VEVENT
END:VCALENDAR